Workbook

Sheet Grafik
A1: Grafik pracy - sklep
A2: Pierwszy dzień miesiąca: | C2: 46327 | H2: Jak wypełnić: pola z żółtym tłem to Twoje dane - data 1. dnia miesiąca, imiona, etat (h/mies.) i kody zmian z arkusza „Zmiany” (R, P, D, U, L4, W). Sumy i obsada liczą się same. Pierwszy wiersz to przykład - nadpisz go.
A4: Pracownik | B4: Etat h/mies. | C4: =IF(MONTH($C$2+0)=MONTH($C$2),DAY($C$2+0),"") | D4: =IF(MONTH($C$2+1)=MONTH($C$2),DAY($C$2+1),"") | E4: =IF(MONTH($C$2+2)=MONTH($C$2),DAY($C$2+2),"") | F4: =IF(MONTH($C$2+3)=MONTH($C$2),DAY($C$2+3),"") | G4: =IF(MONTH($C$2+4)=MONTH($C$2),DAY($C$2+4),"") | H4: =IF(MONTH($C$2+5)=MONTH($C$2),DAY($C$2+5),"") | I4: =IF(MONTH($C$2+6)=MONTH($C$2),DAY($C$2+6),"") | J4: =IF(MONTH($C$2+7)=MONTH($C$2),DAY($C$2+7),"") | K4: =IF(MONTH($C$2+8)=MONTH($C$2),DAY($C$2+8),"") | L4: =IF(MONTH($C$2+9)=MONTH($C$2),DAY($C$2+9),"") | M4: =IF(MONTH($C$2+10)=MONTH($C$2),DAY($C$2+10),"") | N4: =IF(MONTH($C$2+11)=MONTH($C$2),DAY($C$2+11),"") | O4: =IF(MONTH($C$2+12)=MONTH($C$2),DAY($C$2+12),"") | P4: =IF(MONTH($C$2+13)=MONTH($C$2),DAY($C$2+13),"") | Q4: =IF(MONTH($C$2+14)=MONTH($C$2),DAY($C$2+14),"") | R4: =IF(MONTH($C$2+15)=MONTH($C$2),DAY($C$2+15),"") | S4: =IF(MONTH($C$2+16)=MONTH($C$2),DAY($C$2+16),"") | T4: =IF(MONTH($C$2+17)=MONTH($C$2),DAY($C$2+17),"") | U4: =IF(MONTH($C$2+18)=MONTH($C$2),DAY($C$2+18),"") | V4: =IF(MONTH($C$2+19)=MONTH($C$2),DAY($C$2+19),"") | W4: =IF(MONTH($C$2+20)=MONTH($C$2),DAY($C$2+20),"") | X4: =IF(MONTH($C$2+21)=MONTH($C$2),DAY($C$2+21),"") | Y4: =IF(MONTH($C$2+22)=MONTH($C$2),DAY($C$2+22),"") | Z4: =IF(MONTH($C$2+23)=MONTH($C$2),DAY($C$2+23),"") | AA4: =IF(MONTH($C$2+24)=MONTH($C$2),DAY($C$2+24),"") | AB4: =IF(MONTH($C$2+25)=MONTH($C$2),DAY($C$2+25),"") | AC4: =IF(MONTH($C$2+26)=MONTH($C$2),DAY($C$2+26),"") | AD4: =IF(MONTH($C$2+27)=MONTH($C$2),DAY($C$2+27),"") | AE4: =IF(MONTH($C$2+28)=MONTH($C$2),DAY($C$2+28),"") | AF4: =IF(MONTH($C$2+29)=MONTH($C$2),DAY($C$2+29),"") | AG4: =IF(MONTH($C$2+30)=MONTH($C$2),DAY($C$2+30),"") | AH4: Suma h | AI4: Różnica vs etat
C5: =IF(C4="","",CHOOSE(WEEKDAY($C$2+0,2),"pn","wt","śr","cz","pt","so","nd")) | D5: =IF(D4="","",CHOOSE(WEEKDAY($C$2+1,2),"pn","wt","śr","cz","pt","so","nd")) | E5: =IF(E4="","",CHOOSE(WEEKDAY($C$2+2,2),"pn","wt","śr","cz","pt","so","nd")) | F5: =IF(F4="","",CHOOSE(WEEKDAY($C$2+3,2),"pn","wt","śr","cz","pt","so","nd")) | G5: =IF(G4="","",CHOOSE(WEEKDAY($C$2+4,2),"pn","wt","śr","cz","pt","so","nd")) | H5: =IF(H4="","",CHOOSE(WEEKDAY($C$2+5,2),"pn","wt","śr","cz","pt","so","nd")) | I5: =IF(I4="","",CHOOSE(WEEKDAY($C$2+6,2),"pn","wt","śr","cz","pt","so","nd")) | J5: =IF(J4="","",CHOOSE(WEEKDAY($C$2+7,2),"pn","wt","śr","cz","pt","so","nd")) | K5: =IF(K4="","",CHOOSE(WEEKDAY($C$2+8,2),"pn","wt","śr","cz","pt","so","nd")) | L5: =IF(L4="","",CHOOSE(WEEKDAY($C$2+9,2),"pn","wt","śr","cz","pt","so","nd")) | M5: =IF(M4="","",CHOOSE(WEEKDAY($C$2+10,2),"pn","wt","śr","cz","pt","so","nd")) | N5: =IF(N4="","",CHOOSE(WEEKDAY($C$2+11,2),"pn","wt","śr","cz","pt","so","nd")) | O5: =IF(O4="","",CHOOSE(WEEKDAY($C$2+12,2),"pn","wt","śr","cz","pt","so","nd")) | P5: =IF(P4="","",CHOOSE(WEEKDAY($C$2+13,2),"pn","wt","śr","cz","pt","so","nd")) | Q5: =IF(Q4="","",CHOOSE(WEEKDAY($C$2+14,2),"pn","wt","śr","cz","pt","so","nd")) | R5: =IF(R4="","",CHOOSE(WEEKDAY($C$2+15,2),"pn","wt","śr","cz","pt","so","nd")) | S5: =IF(S4="","",CHOOSE(WEEKDAY($C$2+16,2),"pn","wt","śr","cz","pt","so","nd")) | T5: =IF(T4="","",CHOOSE(WEEKDAY($C$2+17,2),"pn","wt","śr","cz","pt","so","nd")) | U5: =IF(U4="","",CHOOSE(WEEKDAY($C$2+18,2),"pn","wt","śr","cz","pt","so","nd")) | V5: =IF(V4="","",CHOOSE(WEEKDAY($C$2+19,2),"pn","wt","śr","cz","pt","so","nd")) | W5: =IF(W4="","",CHOOSE(WEEKDAY($C$2+20,2),"pn","wt","śr","cz","pt","so","nd")) | X5: =IF(X4="","",CHOOSE(WEEKDAY($C$2+21,2),"pn","wt","śr","cz","pt","so","nd")) | Y5: =IF(Y4="","",CHOOSE(WEEKDAY($C$2+22,2),"pn","wt","śr","cz","pt","so","nd")) | Z5: =IF(Z4="","",CHOOSE(WEEKDAY($C$2+23,2),"pn","wt","śr","cz","pt","so","nd")) | AA5: =IF(AA4="","",CHOOSE(WEEKDAY($C$2+24,2),"pn","wt","śr","cz","pt","so","nd")) | AB5: =IF(AB4="","",CHOOSE(WEEKDAY($C$2+25,2),"pn","wt","śr","cz","pt","so","nd")) | AC5: =IF(AC4="","",CHOOSE(WEEKDAY($C$2+26,2),"pn","wt","śr","cz","pt","so","nd")) | AD5: =IF(AD4="","",CHOOSE(WEEKDAY($C$2+27,2),"pn","wt","śr","cz","pt","so","nd")) | AE5: =IF(AE4="","",CHOOSE(WEEKDAY($C$2+28,2),"pn","wt","śr","cz","pt","so","nd")) | AF5: =IF(AF4="","",CHOOSE(WEEKDAY($C$2+29,2),"pn","wt","śr","cz","pt","so","nd")) | AG5: =IF(AG4="","",CHOOSE(WEEKDAY($C$2+30,2),"pn","wt","śr","cz","pt","so","nd"))
A6: Anna (przykład) | B6: 168 | C6: W | D6: R | E6: R | F6: R | G6: P | H6: P | I6: W | J6: W | K6: R | L6: R | M6: R | N6: D | O6: W | P6: P | Q6: P | R6: P | S6: W | T6: R | U6: R | V6: R | W6: W | X6: W | Y6: W | Z6: P | AA6: P | AB6: P | AC6: W | AD6: R | AE6: R | AF6: R | AH6: =SUMPRODUCT(COUNTIF(C6:AG6,Zmiany!$A$4:$A$9),Zmiany!$E$4:$E$9) | AI6: =IF(B6="","",AH6-B6)
AH7: =SUMPRODUCT(COUNTIF(C7:AG7,Zmiany!$A$4:$A$9),Zmiany!$E$4:$E$9) | AI7: =IF(B7="","",AH7-B7)
AH8: =SUMPRODUCT(COUNTIF(C8:AG8,Zmiany!$A$4:$A$9),Zmiany!$E$4:$E$9) | AI8: =IF(B8="","",AH8-B8)
AH9: =SUMPRODUCT(COUNTIF(C9:AG9,Zmiany!$A$4:$A$9),Zmiany!$E$4:$E$9) | AI9: =IF(B9="","",AH9-B9)
AH10: =SUMPRODUCT(COUNTIF(C10:AG10,Zmiany!$A$4:$A$9),Zmiany!$E$4:$E$9) | AI10: =IF(B10="","",AH10-B10)
AH11: =SUMPRODUCT(COUNTIF(C11:AG11,Zmiany!$A$4:$A$9),Zmiany!$E$4:$E$9) | AI11: =IF(B11="","",AH11-B11)
AH12: =SUMPRODUCT(COUNTIF(C12:AG12,Zmiany!$A$4:$A$9),Zmiany!$E$4:$E$9) | AI12: =IF(B12="","",AH12-B12)
AH13: =SUMPRODUCT(COUNTIF(C13:AG13,Zmiany!$A$4:$A$9),Zmiany!$E$4:$E$9) | AI13: =IF(B13="","",AH13-B13)
AH14: =SUMPRODUCT(COUNTIF(C14:AG14,Zmiany!$A$4:$A$9),Zmiany!$E$4:$E$9) | AI14: =IF(B14="","",AH14-B14)
AH15: =SUMPRODUCT(COUNTIF(C15:AG15,Zmiany!$A$4:$A$9),Zmiany!$E$4:$E$9) | AI15: =IF(B15="","",AH15-B15)
A17: Obsada: rano | C17: =IF(C$4="","",COUNTIF(C$6:C$15,"R")) | D17: =IF(D$4="","",COUNTIF(D$6:D$15,"R")) | E17: =IF(E$4="","",COUNTIF(E$6:E$15,"R")) | F17: =IF(F$4="","",COUNTIF(F$6:F$15,"R")) | G17: =IF(G$4="","",COUNTIF(G$6:G$15,"R")) | H17: =IF(H$4="","",COUNTIF(H$6:H$15,"R")) | I17: =IF(I$4="","",COUNTIF(I$6:I$15,"R")) | J17: =IF(J$4="","",COUNTIF(J$6:J$15,"R")) | ... AG17: =IF(AG$4="","",COUNTIF(AG$6:AG$15,"R"))
A18: Obsada: popołudnie | C18: =IF(C$4="","",COUNTIF(C$6:C$15,"P")) | D18: =IF(D$4="","",COUNTIF(D$6:D$15,"P")) | E18: =IF(E$4="","",COUNTIF(E$6:E$15,"P")) | F18: =IF(F$4="","",COUNTIF(F$6:F$15,"P")) | G18: =IF(G$4="","",COUNTIF(G$6:G$15,"P")) | H18: =IF(H$4="","",COUNTIF(H$6:H$15,"P")) | I18: =IF(I$4="","",COUNTIF(I$6:I$15,"P")) | J18: =IF(J$4="","",COUNTIF(J$6:J$15,"P")) | ... AG18: =IF(AG$4="","",COUNTIF(AG$6:AG$15,"P"))
A19: Obsada: długa | C19: =IF(C$4="","",COUNTIF(C$6:C$15,"D")) | D19: =IF(D$4="","",COUNTIF(D$6:D$15,"D")) | E19: =IF(E$4="","",COUNTIF(E$6:E$15,"D")) | F19: =IF(F$4="","",COUNTIF(F$6:F$15,"D")) | G19: =IF(G$4="","",COUNTIF(G$6:G$15,"D")) | H19: =IF(H$4="","",COUNTIF(H$6:H$15,"D")) | I19: =IF(I$4="","",COUNTIF(I$6:I$15,"D")) | J19: =IF(J$4="","",COUNTIF(J$6:J$15,"D")) | ... AG19: =IF(AG$4="","",COUNTIF(AG$6:AG$15,"D"))
A21: Pamiętaj: między zmianami min. 11 h odpoczynku (np. P do 22:00 i R od 6:00 następnego dnia to tylko 8 h - nie wolno), raz w tygodniu min. 35 h wolnego.
A22: Wzór od Zaplecze.app - w aplikacji grafik układa się sam z dyspozycyjności załogi i pilnuje odpoczynku: https://zaplecze.app

Sheet Zmiany
A1: Rodzaje zmian - zmień godziny pod swój sklep (pola z żółtym tłem)
A3: Kod | B3: Nazwa | C3: Od | D3: Do | E3: Godziny
A4: R | B4: Rano | C4: 0.25 | D4: 0.58333333 | E4: =MOD(D4-C4,1)*24
A5: P | B5: Popołudnie | C5: 0.58333333 | D5: 0.91666667 | E5: =MOD(D5-C5,1)*24
A6: D | B6: Długa | C6: 0.33333333 | D6: 0.83333333 | E6: =MOD(D6-C6,1)*24
A7: U | B7: Urlop (8 h) | E7: 8
A8: L4 | B8: Zwolnienie lekarskie | E8: 0
A9: W | B9: Wolne | E9: 0
A11: Godziny liczą się same z „Od” i „Do” (także zmiana przez północ). Urlop: 8 h na dzień przy pełnym etacie. L4 i wolne: 0 h pracy.
